BEGIN:VCALENDAR
VERSION:2.0
PRODID:-//SFFA - ECPv6.15.20//NONSGML v1.0//EN
CALSCALE:GREGORIAN
METHOD:PUBLISH
X-ORIGINAL-URL:https://siblybackflyfishers.co.uk
X-WR-CALDESC:Events for SFFA
REFRESH-INTERVAL;VALUE=DURATION:PT1H
X-Robots-Tag:noindex
X-PUBLISHED-TTL:PT1H
BEGIN:VTIMEZONE
TZID:UTC
BEGIN:STANDARD
TZOFFSETFROM:+0000
TZOFFSETTO:+0000
TZNAME:UTC
DTSTART:20250101T000000
END:STANDARD
END:VTIMEZONE
BEGIN:VEVENT
DTSTART;TZID=UTC:20260426T080000
DTEND;TZID=UTC:20260426T170000
DTSTAMP:20260425T164822
CREATED:20251130T164905Z
LAST-MODIFIED:20260309T153654Z
UID:970-1777190400-1777222800@siblybackflyfishers.co.uk
SUMMARY:Snowbee Teams of four Competition
DESCRIPTION:Full details to follow
URL:https://siblybackflyfishers.co.uk/event/snowbee-teams-of-four-competition/
LOCATION:Siblyback Lake\, PL14 6ER
ATTACH;FMTTYPE=image/jpeg:https://siblybackflyfishers.co.uk/wp-content/uploads/2024/10/Talking-tactics.jpg
END:VEVENT
END:VCALENDAR